BEGIN:VCALENDAR
VERSION:2.0
PRODID:-//eventon.com NONSGML v1.0//EN
CALSCALE:GREGORIAN
METHOD:PUBLISH
BEGIN:VEVENT
UID:69e7da5186716
DTSTAMP:20260421T201305Z
DTSTART:20270319T190000Z
DTEND:20270319T230000Z
LOCATION:Exil Weender Landstraße 5\,  37073 Göttingen
SUMMARY:DeVision Redux (Göttingen\,  DE)
DESCRIPTION:plus special guests\nhttps://black-generation.de/events/devisio
 n-redux-goettingen-de/
URL:https://black-generation.de/events/devision-redux-goettingen-de/
END:VEVENT
END:VCALENDAR