BEGIN:VCALENDAR
VERSION:2.0
PRODID:-//eventon.com NONSGML v1.0//EN
CALSCALE:GREGORIAN
METHOD:PUBLISH
BEGIN:VEVENT
UID:69e7edd5c46cf
DTSTAMP:20260421T213621Z
DTSTART:20270402T190000Z
DTEND:20270402T230000Z
LOCATION:Kulturzentrum Bunte Welt Thierbacher Str. 21\,  03048 Cottbus
SUMMARY:DeVision Redux (Cottbus\,  DE)
DESCRIPTION:plus special guests\nhttps://black-generation.de/events/devisio
 n-redux-cottbus-de/
URL:https://black-generation.de/events/devision-redux-cottbus-de/
END:VEVENT
END:VCALENDAR