BEGIN:VCALENDAR
VERSION:2.0
PRODID:-//eventon.com NONSGML v1.0//EN
CALSCALE:GREGORIAN
METHOD:PUBLISH
BEGIN:VEVENT
UID:69e7ee1dc0f00
DTSTAMP:20260421T213733Z
DTSTART:20260425T133000Z
DTEND:20260425T150000Z
LOCATION:Kernkrach Matzenbergstraße 153\,  46145 Oberhausen
SUMMARY:EGOamp (Oberhausen\,  DE)
DESCRIPTION:Kostenloser Eintritt (Hutkonzert)\nhttps://black-generation.de/
 events/egoamp-oberhausen-de/
URL:https://black-generation.de/events/egoamp-oberhausen-de/
END:VEVENT
END:VCALENDAR