BEGIN:VCALENDAR
VERSION:2.0
PRODID:-//eventon.com NONSGML v1.0//EN
CALSCALE:GREGORIAN
METHOD:PUBLISH
BEGIN:VEVENT
UID:69e7edca236b9
DTSTAMP:20260421T213610Z
DTSTART:20260925T190000Z
DTEND:20260925T230000Z
LOCATION:Das Bett Schmidtstraße 12\,  60326 Frankfurt am Main
SUMMARY:Neuroticfish (Frankfurt am Main\, DE)
DESCRIPTION:Viel zu lange ist es schon her\,  im Spätsommer sind sie nun w
 ieder da!NEUROTICFISH spielen exklusiv für Euch im Rhein-Main-Gebiet\,  so
 wie dem süddeutschen Raum in 2026.\nhttps://black-generation.de/events/neu
 roticfish-frankfurt-am-mainde/
URL:https://black-generation.de/events/neuroticfish-frankfurt-am-mainde/
END:VEVENT
END:VCALENDAR