BEGIN:VCALENDAR
VERSION:2.0
PRODID:-//eventon.com NONSGML v1.0//EN
CALSCALE:GREGORIAN
METHOD:PUBLISH
BEGIN:VEVENT
UID:69e7ee242a0ef
DTSTAMP:20260421T213740Z
DTSTART:20270528T190000Z
DTEND:20270528T230000Z
LOCATION:Das Bett Schmidtstraße 12\,  60326 Frankfurt am Main
SUMMARY:DeVision Redux (Frankfurt am Main\,  DE)
DESCRIPTION:plus special guests\nhttps://black-generation.de/events/devisio
 n-redux-frankfurt-am-main-de/
URL:https://black-generation.de/events/devision-redux-frankfurt-am-main-de/
END:VEVENT
END:VCALENDAR