BEGIN:VCALENDAR
VERSION:2.0
PRODID:-//eventon.com NONSGML v1.0//EN
CALSCALE:GREGORIAN
METHOD:PUBLISH
BEGIN:VEVENT
UID:69e7db5193e3c
DTSTAMP:20260421T201721Z
DTSTART:20270409T190000Z
DTEND:20270409T230000Z
LOCATION:Café Central Bahnhofstraße 19\,  69469 Weinheim
SUMMARY:DeVision Redux (Weinheim\,  DE)
DESCRIPTION:plus special guests\nhttps://black-generation.de/events/devisio
 n-redux-weinheim-de/
URL:https://black-generation.de/events/devision-redux-weinheim-de/
END:VEVENT
END:VCALENDAR