BEGIN:VCALENDAR
VERSION:2.0
PRODID:-//eventon.com NONSGML v1.0//EN
CALSCALE:GREGORIAN
METHOD:PUBLISH
BEGIN:VEVENT
UID:69e7da95130c8
DTSTAMP:20260421T201413Z
DTSTART:20270320T190000Z
DTEND:20270320T230000Z
LOCATION:Zughafen Kulturbahnhof Zum Güterbahnhof 20\,  99085 Erfurt
SUMMARY:DeVision Redux (Erfurt\,  DE)
DESCRIPTION:plus special guests\nhttps://black-generation.de/events/devisio
 n-redux-erfurt-de/
URL:https://black-generation.de/events/devision-redux-erfurt-de/
END:VEVENT
END:VCALENDAR