BEGIN:VCALENDAR
VERSION:2.0
PRODID:-//eventon.com NONSGML v1.0//EN
CALSCALE:GREGORIAN
METHOD:PUBLISH
BEGIN:VEVENT
UID:69e7d9fef1634
DTSTAMP:20260421T201142Z
DTSTART:20270529T193000Z
DTEND:20270529T230000Z
LOCATION:Groove Bar &amp; Lounge Frankfurter Str. 200\,  51147 Köln
SUMMARY:DeVision Redux (Köln\,  DE)
DESCRIPTION:plus special guests\nhttps://black-generation.de/events/devisio
 n-redux-koeln-de/
URL:https://black-generation.de/events/devision-redux-koeln-de/
END:VEVENT
END:VCALENDAR