BEGIN:VCALENDAR
VERSION:2.0
PRODID:-//eventon.com NONSGML v1.0//EN
CALSCALE:GREGORIAN
METHOD:PUBLISH
BEGIN:VEVENT
UID:69e5ef843f2c8
DTSTAMP:20260420T091900Z
DTSTART:20261010T190000Z
DTEND:20261010T230000Z
LOCATION:Heilig-Kreuz-Kirche Zossener Str.65\,  10961 Berlin
SUMMARY:Das Ich (Berlin\,  DE)
DESCRIPTION:Aufgrund der großen Nachfrage und weil viele seltsamerweise ni
 cht mitbekommen haben\,  dass DAS ICH Headliner beim legendären Dark Rush 
 Festival waren am 7.3.\,  hier nun die letzte Chance! EXKLUSIV 2026 für Be
 rlin\,  Brandenburg\,  Mecklenburg-Vorpommern\,  Saarland\,  Niedersachsen\
 ,  Schleswig-Holstein&#8230;. 120 MINUTEN SHOW in der legendären HEILIG KR
 EUZ KIRCHE Berlin-Kreuzberg!\nhttps://black-generation.de/events/das-ich-be
 rlin-de/
URL:https://black-generation.de/events/das-ich-berlin-de/
END:VEVENT
END:VCALENDAR