BEGIN:VCALENDAR
VERSION:2.0
PRODID:-//eventon.com NONSGML v1.0//EN
CALSCALE:GREGORIAN
METHOD:PUBLISH
BEGIN:VEVENT
UID:69e9cf10f3e37
DTSTAMP:20260423T074936Z
DTSTART:20260207T180000Z
DTEND:20260207T224500Z
LOCATION:The Hidden NeustraÃŸe 2A\,  41460 Neuss
SUMMARY:2. Nachtmaschinen Festival (Neuss\,  DE)
DESCRIPTION:Tension Control â€“ kompromissloser EBM-Druck\,  der direkt unt
 er die Haut gehtMinusheart â€“ Industrial-Energie mit markanter HÃ¤rte und 
 AtmosphÃ¤reTigerjunge â€“ Musik mit Kante und elektrisierender EmotionalitÃ
 ¤tRotoskop â€“ Cold-Wave-Vibes zwischen Schatten\,  Minimalismus und hypnot
 ischen Melodien\nhttps://black-generation.de/events/2-nachtmaschinen-festiv
 al-neuss-de/
URL:https://black-generation.de/events/2-nachtmaschinen-festival-neuss-de/
END:VEVENT
END:VCALENDAR