BEGIN:VCALENDAR
VERSION:2.0
PRODID:-//eventon.com NONSGML v1.0//EN
CALSCALE:GREGORIAN
METHOD:PUBLISH
BEGIN:VEVENT
UID:69e63e77c41c6
DTSTAMP:20260420T145551Z
DTSTART:20260912T180000Z
DTEND:20260912T210000Z
LOCATION:Markthalle Klosterwall 11\,  20095 Hamburg
SUMMARY:Auger (Hamburg\,  DE)
DESCRIPTION:Erlebt AUGER live mit Ihrem neuen Album „The Old Arcade“.Ko
 mmt mit auf eine Reise durch Nostalgie und Lärm\,  getragen durch dunkle R
 ockhymnen und schimmernden Pop. Jede Show verzaubert durch ihren Mix aus Ne
 onlicht und Schatten\,  jeder Song bietet eine Erinnerung und eine neue Erf
 ahrung.\nhttps://black-generation.de/events/auger-hamburg-de/
URL:https://black-generation.de/events/auger-hamburg-de/
END:VEVENT
END:VCALENDAR