BEGIN:VCALENDAR
VERSION:2.0
PRODID:-//eventon.com NONSGML v1.0//EN
CALSCALE:GREGORIAN
METHOD:PUBLISH
BEGIN:VEVENT
UID:69e993bbedcda
DTSTAMP:20260423T033627Z
DTSTART:20260213T181500Z
DTEND:20260213T221500Z
LOCATION:Reithalle Strasse E
SUMMARY:Eisfabrik (Dresden\,  DE)
DESCRIPTION:Live On StageEisfabrikDigital EnergyBinokular\nhttps://black-ge
 neration.de/events/eisfabrik-dresden-de/
URL:https://black-generation.de/events/eisfabrik-dresden-de/
END:VEVENT
END:VCALENDAR