BEGIN:VCALENDAR
VERSION:2.0
PRODID:-//eventon.com NONSGML v1.0//EN
CALSCALE:GREGORIAN
METHOD:PUBLISH
BEGIN:VEVENT
UID:69e5cea183fcb
DTSTAMP:20260420T065841Z
DTSTART:20250419T180000Z
DTEND:20250419T210000Z
LOCATION:Moritzbastei
SUMMARY:Auger
DESCRIPTION:Auger Live plus special guests\nhttps://black-generation.de/eve
 nts/auger-3/
URL:https://black-generation.de/events/auger-3/
END:VEVENT
END:VCALENDAR