BEGIN:VCALENDAR
VERSION:2.0
PRODID:-//eventon.com NONSGML v1.0//EN
CALSCALE:GREGORIAN
METHOD:PUBLISH
BEGIN:VEVENT
UID:69e6347b81921
DTSTAMP:20260420T141315Z
DTSTART:20250420T020000Z
DTEND:20250420T210000Z
LOCATION:Eastclub
SUMMARY:Dark East - Festival 2025
DESCRIPTION:Line Up 2025 Solitary Experiments (Fulltime &#8211; Club Show)S
 ITDCephalgyKYSignalfarbe Schwarz\nhttps://black-generation.de/events/dark-e
 ast-festival-2025/
URL:https://black-generation.de/events/dark-east-festival-2025/
END:VEVENT
END:VCALENDAR