BEGIN:VCALENDAR
VERSION:2.0
PRODID:-//eventon.com NONSGML v1.0//EN
CALSCALE:GREGORIAN
METHOD:PUBLISH
BEGIN:VEVENT
UID:69e8be1e917e0
DTSTAMP:20260422T122502Z
DTSTART:20241228T020000Z
DTEND:20241228T220000Z
LOCATION:Neue Stadthalle Langen Südliche Ringstraße 77\,  63225 Langen
SUMMARY:Electronic Dance Art Festival 2024
DESCRIPTION:Live on Stage: Suicide Commando\,  In Strict Confidence\,  Oran
 ge Sector\,  Torul\,  Destroy Me Again &amp; Antiage\nhttps://black-generat
 ion.de/events/electronic-dance-art-festival-2024/
URL:https://black-generation.de/events/electronic-dance-art-festival-2024/
END:VEVENT
END:VCALENDAR