BEGIN:VCALENDAR
VERSION:2.0
PRODID:-//eventon.com NONSGML v1.0//EN
CALSCALE:GREGORIAN
METHOD:PUBLISH
BEGIN:VEVENT
UID:69e5efb7e12c6
DTSTAMP:20260420T091951Z
DTSTART:20241026T020000Z
DTEND:20241026T210000Z
LOCATION:Die Pumpe
SUMMARY:Through the Night - Das Oldschool Electro Festival in Kiel
DESCRIPTION:Live on StageMildredaProject-XTo AvoidTC 75\nhttps://black-gene
 ration.de/events/through-the-night-das-oldschool-electro-festival-in-kiel/
URL:https://black-generation.de/events/through-the-night-das-oldschool-electro-festival-in-kiel/
END:VEVENT
END:VCALENDAR