BEGIN:VCALENDAR
VERSION:2.0
PRODID:-//eventon.com NONSGML v1.0//EN
CALSCALE:GREGORIAN
METHOD:PUBLISH
BEGIN:VEVENT
UID:69e9a9d1956a4
DTSTAMP:20260423T051041Z
DTSTART:20240919T150000Z
DTEND:20240919T210000Z
LOCATION:The Factory in Deep Ellum
SUMMARY:Till Lindemann
DESCRIPTION:Till Lindemann &#8211; inimitable poet\,  performer\,  and sing
 er of platinum-award winning industrial metal group Rammstein will be bring
 ing his solo project to North America for the first time. Renowned worldwid
 e for his imagery-rich lyrics and explosive stage persona\,  Lindemann will
  be playing his latest music and captivating audiences across fourteen[..]\
 nhttps://black-generation.de/events/till-lindemann-24/
URL:https://black-generation.de/events/till-lindemann-24/
END:VEVENT
END:VCALENDAR