BEGIN:VCALENDAR
VERSION:2.0
PRODID:-//eventon.com NONSGML v1.0//EN
CALSCALE:GREGORIAN
METHOD:PUBLISH
BEGIN:VEVENT
UID:69e73dd6d82b9
DTSTAMP:20260421T090526Z
DTSTART:20241019T030000Z
DTEND:20241019T210000Z
LOCATION:Surly Wench Pub
SUMMARY:Aesthetic Perfection
DESCRIPTION:Aesthetic Perfection on Fall Goth Tour 2024\nhttps://black-gene
 ration.de/events/aesthetic-perfection-78/
URL:https://black-generation.de/events/aesthetic-perfection-78/
END:VEVENT
END:VCALENDAR