BEGIN:VCALENDAR
VERSION:2.0
PRODID:-//eventon.com NONSGML v1.0//EN
CALSCALE:GREGORIAN
METHOD:PUBLISH
BEGIN:VEVENT
UID:69e67b484e16d
DTSTAMP:20260420T191520Z
DTSTART:20241130T030000Z
DTEND:20241130T220000Z
LOCATION:Planetarium im LWL-Museum
SUMMARY:Deine Lakaien
DESCRIPTION:Deine Lakaien spielten im Oktober 2023 drei wunderbare Konzerta
 bende im Zeiss-Großplanetarium Berlin. Das Interesse an diesen speziellen 
 Konzerten war so groß\,  das nun eine deutschlandweite Planetariums-Tourne
 e ankündigt wurde.\nhttps://black-generation.de/events/deine-lakaien-43/va
 r/ri-1.l-L1
URL:https://black-generation.de/events/deine-lakaien-43/var/ri-1.l-L1
END:VEVENT
END:VCALENDAR