BEGIN:VCALENDAR
VERSION:2.0
PRODID:-//eventon.com NONSGML v1.0//EN
CALSCALE:GREGORIAN
METHOD:PUBLISH
BEGIN:VEVENT
UID:69e7daafa5bd9
DTSTAMP:20260421T201439Z
DTSTART:20270127T170000Z
DTEND:20270127T190000Z
LOCATION:
SUMMARY:The New Black
DESCRIPTION:The New Black präsentiert euch die aktuellen Songs der dunklen
  Electroszene von Synthpop über EBM zu Industrial ist für jeden Geschmack
  etwas dabei.SendetermineMontag 14:00 – 16:00 UhrDienstag 16:00 – 18:00
  UhrMittwoch 17:00 – 19:00 UhrDonnerstag 15:00 – 16:00 UhrFreitag 10:00
  – 12:00 Uhr\nhttps://black-generation.de/events/the-new-black-2/var/ri-5
 0.l-L1
URL:https://black-generation.de/events/the-new-black-2/var/ri-50.l-L1
END:VEVENT
END:VCALENDAR