BEGIN:VCALENDAR
VERSION:2.0
PRODID:-//eventon.com NONSGML v1.0//EN
CALSCALE:GREGORIAN
METHOD:PUBLISH
BEGIN:VEVENT
UID:69ea55a4d1d75
DTSTAMP:20260423T172348Z
DTSTART:20250405T064500Z
DTEND:20250405T234500Z
LOCATION:Hamburger Börs
SUMMARY:VNV Nation
DESCRIPTION:Nach dem phänomenalen Erfolg des 2023er Albums &#8222;Electric
  Sun&#8220; das Fans begeisterte und für ausverkaufte Live Shows in ganz E
 uropa gesorgt hat\,  freut sich VNV Nation\,  die nächste Live-Tour zum Do
 ppelalbum &#8222;Construct // Destruct&#8220; anzukündigen.\nhttps://black
 -generation.de/events/vnv-nation-115/
URL:https://black-generation.de/events/vnv-nation-115/
END:VEVENT
END:VCALENDAR