BEGIN:VCALENDAR
VERSION:2.0
PRODID:-//eventon.com NONSGML v1.0//EN
CALSCALE:GREGORIAN
METHOD:PUBLISH
BEGIN:VEVENT
UID:69e73329a6d08
DTSTAMP:20260421T081953Z
DTSTART:20240622T160000Z
DTEND:20240622T230000Z
LOCATION:Blue Shell Luxemburger Str. 32\,  50674 Köln
SUMMARY:Orange Sector + TC75
DESCRIPTION:Einlass 19 Uhr Beginn 20 Uhr Tickets: Vvk: 24 €  (zzgl. Geb.
 )\nhttps://black-generation.de/events/orange-sector-tc75/
URL:https://black-generation.de/events/orange-sector-tc75/
END:VEVENT
END:VCALENDAR