BEGIN:VCALENDAR
VERSION:2.0
PRODID:-//eventon.com NONSGML v1.0//EN
CALSCALE:GREGORIAN
METHOD:PUBLISH
BEGIN:VEVENT
UID:69e8e8d706d47
DTSTAMP:20260422T152719Z
DTSTART:20240622T180000Z
DTEND:20240622T230000Z
LOCATION:Cabaret Fouf
SUMMARY:[:SITD:]
DESCRIPTION:[:SITD:] Live on Stage\nhttps://black-generation.de/events/sitd
 -8/
URL:https://black-generation.de/events/sitd-8/
END:VEVENT
END:VCALENDAR