BEGIN:VCALENDAR
VERSION:2.0
PRODID:-//eventon.com NONSGML v1.0//EN
CALSCALE:GREGORIAN
METHOD:PUBLISH
BEGIN:VEVENT
UID:69e74412512a3
DTSTAMP:20260421T093202Z
DTSTART:20240427T050000Z
DTEND:20240427T230000Z
LOCATION:Blue Shell Luxemburger Str. 32\,  50674 Köln
SUMMARY:EBM Super Tour
DESCRIPTION:Live on StageJäger 90MinusheartTension ControlTon:Fehler\nhttp
 s://black-generation.de/events/ebm-super-tour-2/
URL:https://black-generation.de/events/ebm-super-tour-2/
END:VEVENT
END:VCALENDAR