BEGIN:VCALENDAR
VERSION:2.0
PRODID:-//eventon.com NONSGML v1.0//EN
CALSCALE:GREGORIAN
METHOD:PUBLISH
BEGIN:VEVENT
UID:69e6c7e461be7
DTSTAMP:20260421T004212Z
DTSTART:20240406T080000Z
DTEND:20240406T230000Z
LOCATION:Rockfabrik Übach-Palenberg
SUMMARY:Joachim Witt
DESCRIPTION:Pünktlich zum ausverkauften Tourstart seiner exklusiven Clubto
 ur 2023 und zur Albumveröffentlichung von „Der Fels in der Brandung“ a
 m 15.09.23 kündigt Joachim Witt seine gleichnamige Tournee für 2024\nhttp
 s://black-generation.de/events/joachim-witt-24/
URL:https://black-generation.de/events/joachim-witt-24/
END:VEVENT
END:VCALENDAR