BEGIN:VCALENDAR
VERSION:2.0
PRODID:-//eventon.com NONSGML v1.0//EN
CALSCALE:GREGORIAN
METHOD:PUBLISH
BEGIN:VEVENT
UID:69e63470d75b1
DTSTAMP:20260420T141304Z
DTSTART:20241023T120000Z
DTEND:20241023T210000Z
LOCATION:Vega
SUMMARY:EIVØR
DESCRIPTION:EIVØR\,  die Sängerin mit der mystisch-kraftvollen und facett
 enreichen Stimme von den Färöer Inseln\,  hat sich in den letzten Jahren 
 im Bereich Film- und Games-Soundtrack und in der „Nordic Music Scene“ e
 inen immer größeren Namen gemacht. Mit ihrem einzigartigen\,  sphärische
 n Viking Elektro / Ethnopop kommt sie nach einer sehr erfolgreichen großen
 [..]\nhttps://black-generation.de/events/eivoer-16/
URL:https://black-generation.de/events/eivoer-16/
END:VEVENT
END:VCALENDAR