BEGIN:VCALENDAR
VERSION:2.0
PRODID:-//eventon.com NONSGML v1.0//EN
CALSCALE:GREGORIAN
METHOD:PUBLISH
BEGIN:VEVENT
UID:69ea3064500cb
DTSTAMP:20260423T144452Z
DTSTART:20240903T140000Z
DTEND:20240903T210000Z
LOCATION:Kultur- und Kongresszentrum Liederhalle
SUMMARY:Heilung
DESCRIPTION:August and September next year we will return to Germany for se
 veral ceremonies. We look greatly forward returning to what is part of Heil
 ung&#8217;s birth ground and celebrate summer\,  see you then!\nhttps://bla
 ck-generation.de/events/heilung-21/
URL:https://black-generation.de/events/heilung-21/
END:VEVENT
END:VCALENDAR