BEGIN:VCALENDAR
VERSION:2.0
PRODID:-//eventon.com NONSGML v1.0//EN
CALSCALE:GREGORIAN
METHOD:PUBLISH
BEGIN:VEVENT
UID:69ea48d25e9cc
DTSTAMP:20260423T162906Z
DTSTART:20240426T020000Z
DTEND:20240426T210000Z
LOCATION:Brauerei-Gutshof Bergstraße 2 08237 Steinberg
SUMMARY:Project Pitchfork
DESCRIPTION:Project Pitchfork Konzerte sind eine unvergessliche Reise durch
  harte Beats\,  pulsierenden Hymnen und irisierenden Melodien. Die Bühne i
 st dabei in ein Meer aus Lichtern und beeindruckenden visuellen Effekten ge
 taucht. Peter Spilles&#8216; charismatische Bühnenpräsenz und seine Fähi
 gkeit\,  Musik und Emotionen live (fast) noch intensiver zu verbinden\,  sc
 hafft eine originär kosmischen Aura[..]\nhttps://black-generation.de/event
 s/project-pitchfork-87/
URL:https://black-generation.de/events/project-pitchfork-87/
END:VEVENT
END:VCALENDAR