BEGIN:VCALENDAR
VERSION:2.0
PRODID:-//eventon.com NONSGML v1.0//EN
CALSCALE:GREGORIAN
METHOD:PUBLISH
BEGIN:VEVENT
UID:69ea5cd2b9599
DTSTAMP:20260423T175426Z
DTSTART:20240119T050000Z
DTEND:20240119T220000Z
LOCATION:Hafenbar Tegel
SUMMARY:Alienare
DESCRIPTION:Retro &#8211; intim &#8211; einzigartig! Alienare auf Retrotour
 ! Alienare kommen zu Beginn des Jubiläumsjahres für drei ganz besondere S
 hows in ausgewählte\,  intime Locations\,  um im Rahmen einer Retrotour vi
 ele alte Songs zu performen und fast vergessene Showelemente wieder hervorz
 uholen\nhttps://black-generation.de/events/alienare-15/
URL:https://black-generation.de/events/alienare-15/
END:VEVENT
END:VCALENDAR