BEGIN:VCALENDAR
VERSION:2.0
PRODID:-//eventon.com NONSGML v1.0//EN
CALSCALE:GREGORIAN
METHOD:PUBLISH
BEGIN:VEVENT
UID:69e895bb4bde9
DTSTAMP:20260422T093243Z
DTSTART:20240205T020000Z
DTEND:20240205T020000Z
LOCATION:Klub B90
SUMMARY:OMD
DESCRIPTION:Orchestral Manoeuvres in the Dark\,  besser bekannt als OMD\,  
 veröffentlichen im Oktober ihr neues Album &#8222;Bauhaus Staircase&#8220;
 . Passend dazu steht eine Europa-Tournee an\,  die die Briten im Frühjahr 
 2024 auch nach Deutschland führt!\nhttps://black-generation.de/events/omd-
 37/
URL:https://black-generation.de/events/omd-37/
END:VEVENT
END:VCALENDAR