BEGIN:VCALENDAR
VERSION:2.0
PRODID:-//eventon.com NONSGML v1.0//EN
CALSCALE:GREGORIAN
METHOD:PUBLISH
BEGIN:VEVENT
UID:69e955499424a
DTSTAMP:20260422T231001Z
DTSTART:20231121T020000Z
DTEND:20231121T020000Z
LOCATION:MusikZentrum Emil-Meyer-Straße 26\,  30165 Hannover
SUMMARY:Aesthetic Perfection
DESCRIPTION:Aesthetic Perfection haben eine Handvoll intimer Clubgigs zwisc
 hen unseren Arenashows gebucht\,  um Till Lindemann auf seiner Europatourne
 e zu unterstützen!\nhttps://black-generation.de/events/aesthetic-perfectio
 n-65/
URL:https://black-generation.de/events/aesthetic-perfection-65/
END:VEVENT
END:VCALENDAR