BEGIN:VCALENDAR
VERSION:2.0
PRODID:-//eventon.com NONSGML v1.0//EN
CALSCALE:GREGORIAN
METHOD:PUBLISH
BEGIN:VEVENT
UID:69e96d5303055
DTSTAMP:20260423T005235Z
DTSTART:20240113T020000Z
DTEND:20240113T020000Z
LOCATION:Werk 2
SUMMARY:Empathy Test
DESCRIPTION:Plus special guests Auger (+1 opening act)\nhttps://black-gener
 ation.de/events/empathy-test-39/
URL:https://black-generation.de/events/empathy-test-39/
END:VEVENT
END:VCALENDAR