BEGIN:VCALENDAR
VERSION:2.0
PRODID:-//eventon.com NONSGML v1.0//EN
CALSCALE:GREGORIAN
METHOD:PUBLISH
BEGIN:VEVENT
UID:69e5eb41b0e55
DTSTAMP:20260420T090049Z
DTSTART:20241129T020000Z
DTEND:20241130T220000Z
LOCATION:Ferienpark Weissenhäuser Strand Seestraße 1\,  23758 Wangels
SUMMARY:Plage Noire 2024
DESCRIPTION:Subway to Sally | Lord Of The Lost | Project Pitchfork | L&#821
 7;Âme Immortelle | Diary of Dreams | Front Line Assembly | Hocico | Agonoi
 ze | Rabia Sorda | Heldmaschine | Funker Vogt | Corvus Corax | Amduscia | B
 easto Blanco | Melotron | Girls Under Glass | Intent:Outtake[..]\nhttps://b
 lack-generation.de/events/plage-noire-2024/
URL:https://black-generation.de/events/plage-noire-2024/
END:VEVENT
END:VCALENDAR