BEGIN:VCALENDAR
VERSION:2.0
PRODID:-//eventon.com NONSGML v1.0//EN
CALSCALE:GREGORIAN
METHOD:PUBLISH
BEGIN:VEVENT
UID:69e866e4ccd3b
DTSTAMP:20260422T061252Z
DTSTART:20240726T140000Z
DTEND:20240726T140000Z
LOCATION:Festung Königstein
SUMMARY:VNV Nation
DESCRIPTION:\nhttps://black-generation.de/events/vnv-nation-75/
URL:https://black-generation.de/events/vnv-nation-75/
END:VEVENT
END:VCALENDAR