BEGIN:VCALENDAR
VERSION:2.0
PRODID:-//eventon.com NONSGML v1.0//EN
CALSCALE:GREGORIAN
METHOD:PUBLISH
BEGIN:VEVENT
UID:69e9fb9014e53
DTSTAMP:20260423T105928Z
DTSTART:20230729T030800Z
DTEND:20230729T030800Z
LOCATION:Die Pumpe
SUMMARY:Kielectric
DESCRIPTION:KIELECTRIC 2024.Save the date: 16.03.2024 / Die Pumpe Live on S
 tage Mental ExilVersusAlienareIn Strict Confidence (Electro Set)\nhttps://b
 lack-generation.de/events/kielectric-2/
URL:https://black-generation.de/events/kielectric-2/
END:VEVENT
END:VCALENDAR