BEGIN:VCALENDAR
VERSION:2.0
PRODID:-//eventon.com NONSGML v1.0//EN
CALSCALE:GREGORIAN
METHOD:PUBLISH
BEGIN:VEVENT
UID:69e9eba99dfd8
DTSTAMP:20260423T095137Z
DTSTART:20231210T100000Z
DTEND:20231210T100000Z
LOCATION:L&#039;Olympia
SUMMARY:The Prodigy - Army of the Ants European Tour 2023
DESCRIPTION:The electro giants live! First European tour in five years\nhtt
 ps://black-generation.de/events/the-prodigy-army-of-the-ants-european-tour-
 2023-17/
URL:https://black-generation.de/events/the-prodigy-army-of-the-ants-european-tour-2023-17/
END:VEVENT
END:VCALENDAR