BEGIN:VCALENDAR
VERSION:2.0
PRODID:-//eventon.com NONSGML v1.0//EN
CALSCALE:GREGORIAN
METHOD:PUBLISH
BEGIN:VEVENT
UID:69e74f4fbc22f
DTSTAMP:20260421T101959Z
DTSTART:20231021T180000Z
DTEND:20231021T215000Z
LOCATION:The Echo Lounge &amp; Music Hall
SUMMARY:VNV Nation
DESCRIPTION:The VNV Nation &#8222;Electric Sun&#8220; Tour will start in Ta
 mpa on September 22nd. If you have seen VNV Nation live on tour or at a fes
 tival\,  you will know how full of energy and emotion the shows are. The au
 dience and the band aim for unity\,  two halves building one[..]\nhttps://b
 lack-generation.de/events/vnv-nation-70/
URL:https://black-generation.de/events/vnv-nation-70/
END:VEVENT
END:VCALENDAR