BEGIN:VCALENDAR
VERSION:2.0
PRODID:-//eventon.com NONSGML v1.0//EN
CALSCALE:GREGORIAN
METHOD:PUBLISH
BEGIN:VEVENT
UID:69e5f01584183
DTSTAMP:20260420T092125Z
DTSTART:20231216T100000Z
DTEND:20231216T100000Z
LOCATION:Sumpfblume Kultur- und Kommunikationszentrum Am Stockhof 2a\,  31785 Hameln
SUMMARY:Eisfabrik
DESCRIPTION:Die Eisfabrik Jahresabschlussshow\,  steigt in der Sumpfblume H
 ameln. Mit dabei sind Zoodrake und SCHEUBER.\nhttps://black-generation.de/e
 vents/eisfabrik-24/
URL:https://black-generation.de/events/eisfabrik-24/
END:VEVENT
END:VCALENDAR