BEGIN:VCALENDAR
VERSION:2.0
PRODID:-//eventon.com NONSGML v1.0//EN
CALSCALE:GREGORIAN
METHOD:PUBLISH
BEGIN:VEVENT
UID:69e7880f9176c
DTSTAMP:20260421T142207Z
DTSTART:20230430T180000Z
DTEND:20230430T215000Z
LOCATION:Westand Westbahnhof 13\,  38118 Braunschweig
SUMMARY:Aesthetic Perfection
DESCRIPTION:Aesthetic Perfection ist ein zu 100% unabhängiges Industrial-P
 op-Projekt\,  bestehend aus dem in Los Angeles geborenen Produzenten Daniel
  Graves und dem in New York City lebenden Drummer Joe Letz. In ihrer 20-jä
 hrigen Karriere\,  nach sechs Alben und zahlreichen Singles und Musikvideos
 \,  haben Graves und seine Crew den Dark-Electro neu erfunden\,  indem[..]\
 nhttps://black-generation.de/events/aesthetic-perfection-62/
URL:https://black-generation.de/events/aesthetic-perfection-62/
END:VEVENT
END:VCALENDAR