BEGIN:VCALENDAR
VERSION:2.0
PRODID:-//eventon.com NONSGML v1.0//EN
CALSCALE:GREGORIAN
METHOD:PUBLISH
BEGIN:VEVENT
UID:69e5effb4a64f
DTSTAMP:20260420T092059Z
DTSTART:20231215T190000Z
DTEND:20231215T225000Z
LOCATION:Crypto.com Arena
SUMMARY:Depeche Mode
DESCRIPTION:Depeche Mode will be on Memento Mori World Tour in 2023\nhttps:
 //black-generation.de/events/depeche-mode-72/
URL:https://black-generation.de/events/depeche-mode-72/
END:VEVENT
END:VCALENDAR