BEGIN:VCALENDAR
VERSION:2.0
PRODID:-//eventon.com NONSGML v1.0//EN
CALSCALE:GREGORIAN
METHOD:PUBLISH
BEGIN:VEVENT
UID:69e85ba8149d1
DTSTAMP:20260422T052456Z
DTSTART:20231210T190000Z
DTEND:20231210T225000Z
LOCATION:The Forum
SUMMARY:Depeche Mode
DESCRIPTION:Depeche Mode will be on Memento Mori World Tour in 2023\nhttps:
 //black-generation.de/events/depeche-mode-71/
URL:https://black-generation.de/events/depeche-mode-71/
END:VEVENT
END:VCALENDAR