BEGIN:VCALENDAR
VERSION:2.0
PRODID:-//eventon.com NONSGML v1.0//EN
CALSCALE:GREGORIAN
METHOD:PUBLISH
BEGIN:VEVENT
UID:69ea00ee53fbe
DTSTAMP:20260423T112222Z
DTSTART:20230414T180000Z
DTEND:20230414T120000Z
LOCATION:MusikZentrum Emil-Meyer-Straße 26\,  30165 Hannover
SUMMARY:Sono
DESCRIPTION:Das Hamburger Trio Sono ist ohne Zweifel eine der konstantesten
  Größen der elektronischen Tanzmusik und aus der Szene nicht weg zu denke
 n. Im Jahr 2020 feierte die Band bereits ihr 20 Jähriges Jubiläum und bes
 chenkte ihre Fans zu diesem Anlass gleich im Januar mit einem Best of Album
  der Extraklasse.[..]\nhttps://black-generation.de/events/sono-30/
URL:https://black-generation.de/events/sono-30/
END:VEVENT
END:VCALENDAR