BEGIN:VCALENDAR
VERSION:2.0
PRODID:-//eventon.com NONSGML v1.0//EN
CALSCALE:GREGORIAN
METHOD:PUBLISH
BEGIN:VEVENT
UID:69ed8ecc7c212
DTSTAMP:20260426T040428Z
DTSTART:20230504T180000Z
DTEND:20230504T210000Z
LOCATION:Mergener Hof
SUMMARY:Combichrist
DESCRIPTION:The Norwegian-American electro-metal group Combichrist mixes a 
 variety of different genres into a captivatingly explosive musical inferno!
  But now it&#8217;s back to the roots again. Combichrist are going on tour 
 in Europe with an old school electro set. Special Guest: Priest\nhttps://bl
 ack-generation.de/events/combichrist-31/
URL:https://black-generation.de/events/combichrist-31/
END:VEVENT
END:VCALENDAR