BEGIN:VCALENDAR
VERSION:2.0
PRODID:-//eventon.com NONSGML v1.0//EN
CALSCALE:GREGORIAN
METHOD:PUBLISH
BEGIN:VEVENT
UID:69e7a223390b9
DTSTAMP:20260421T161323Z
DTSTART:20230204T190000Z
DTEND:20230204T040000Z
LOCATION:The Garage 16 Holloway Road\,  London\,  N5 1
SUMMARY:Empathy Test + Auger
DESCRIPTION:Empathy Test + Auger &amp; Magnetic Skies at The Garage\nhttps:
 //black-generation.de/events/empathy-test-auger-3/
URL:https://black-generation.de/events/empathy-test-auger-3/
END:VEVENT
END:VCALENDAR