BEGIN:VCALENDAR
VERSION:2.0
PRODID:-//eventon.com NONSGML v1.0//EN
CALSCALE:GREGORIAN
METHOD:PUBLISH
BEGIN:VEVENT
UID:69e745a2d4628
DTSTAMP:20260421T093842Z
DTSTART:20230128T180000Z
DTEND:20230128T141500Z
LOCATION:Moritzbastei
SUMMARY:Planet Myer Day XIX
DESCRIPTION:Tickets gibt&#8217;s im Vorverkauf der Moritzbastei oder unter:
  https://www.tixforgigs.com/Event/45558 LIVE: DSTR &amp; Lennart Salomon (S
 ONO)NNHMNMildredaMenschen Beim SexInyan Mit anschließender Aftershow:New B
 eat&#8217;ches (B2B Philipp Strobel &amp; Paty Vapor)\nhttps://black-genera
 tion.de/events/planet-myer-day-xix/
URL:https://black-generation.de/events/planet-myer-day-xix/
END:VEVENT
END:VCALENDAR