BEGIN:VCALENDAR
VERSION:2.0
PRODID:-//eventon.com NONSGML v1.0//EN
CALSCALE:GREGORIAN
METHOD:PUBLISH
BEGIN:VEVENT
UID:69e75b535c51c
DTSTAMP:20260421T111115Z
DTSTART:20230527T173000Z
DTEND:20230527T033000Z
LOCATION:Porsche-Arena
SUMMARY:Mono Inc.
DESCRIPTION:Mono Inc. gehen ab Mai mit ihrem neuen Album &#8222;Ravenblack&
 #8220; auf gleichnamige Tour!Supports: Storm Seeker &amp; Sanz\nhttps://bla
 ck-generation.de/events/mono-inc-42/
URL:https://black-generation.de/events/mono-inc-42/
END:VEVENT
END:VCALENDAR