BEGIN:VCALENDAR
VERSION:2.0
PRODID:-//eventon.com NONSGML v1.0//EN
CALSCALE:GREGORIAN
METHOD:PUBLISH
BEGIN:VEVENT
UID:69e705bb40b37
DTSTAMP:20260421T050603Z
DTSTART:20230313T190000Z
DTEND:20230313T210000Z
LOCATION:Hirsch
SUMMARY:The 69 Eyes
DESCRIPTION:The 69 Eyes gehen mit neuer Musik im Gepäck auf &#8222;Gotta R
 ock&#8220; Europa-Tour!\nhttps://black-generation.de/events/the-69-eyes-6/
URL:https://black-generation.de/events/the-69-eyes-6/
END:VEVENT
END:VCALENDAR