BEGIN:VCALENDAR
VERSION:2.0
PRODID:-//eventon.com NONSGML v1.0//EN
CALSCALE:GREGORIAN
METHOD:PUBLISH
BEGIN:VEVENT
UID:69e6872f792be
DTSTAMP:20260420T200607Z
DTSTART:20231110T190000Z
DTEND:20231110T070000Z
LOCATION:Alter Schlachthof Gothaer Str. 11\,  01097 Dresden
SUMMARY:And One
DESCRIPTION:And One starten wieder die Maschinen und lassen die Bässe vibr
 ieren. Für alle Bodypopper\,  Traumfrauen und Techno Männer. Ab Herbst 20
 23 rotieren die Vibratoren auf den Bühnen der Hallen. Die Berliner Band pr
 äsentiert auf grosser Deutschlandtour das neue Album\,  gepaart mit den gr
 össen Hits aus über 30 Jahren And One.[..]\nhttps://black-generation.de/e
 vents/and-one-9/
URL:https://black-generation.de/events/and-one-9/
END:VEVENT
END:VCALENDAR