BEGIN:VCALENDAR
VERSION:2.0
PRODID:-//eventon.com NONSGML v1.0//EN
CALSCALE:GREGORIAN
METHOD:PUBLISH
BEGIN:VEVENT
UID:69ea5ccd06652
DTSTAMP:20260423T175421Z
DTSTART:20230127T190000Z
DTEND:20230127T225000Z
LOCATION:Nachtleben Kurt-Schumacher-Straße 45\,  60313 Frankfurt am Main
SUMMARY:She Hates Emotions
DESCRIPTION:Der “Melancholic Maniac” geht auf Tour mit seinem neuen Alb
 um “Happy Pop Music”. Im Januar 2023 nimmt Chris Pohl\,  Blutengel-Mast
 ermind\,  uns wieder mit auf einen melodischen Trip in sein musikalisches P
 oesiealbum. Support: JanRevolution\nhttps://black-generation.de/events/she-
 hates-emotions-2/
URL:https://black-generation.de/events/she-hates-emotions-2/
END:VEVENT
END:VCALENDAR