BEGIN:VCALENDAR
VERSION:2.0
PRODID:-//eventon.com NONSGML v1.0//EN
CALSCALE:GREGORIAN
METHOD:PUBLISH
BEGIN:VEVENT
UID:69e784853aaf2
DTSTAMP:20260421T140701Z
DTSTART:20230421T180000Z
DTEND:20230421T215000Z
LOCATION:Club From Hell
SUMMARY:Solitary Experiments
DESCRIPTION:Solitary Experiments führen Ihre &#8222;Transcendent Tour&#822
 0; 2023 fort. Weiterhin mit an Board sind Vanguard und Mental Exile.\nhttps
 ://black-generation.de/events/solitary-experiments-14/
URL:https://black-generation.de/events/solitary-experiments-14/
END:VEVENT
END:VCALENDAR